BEGIN:VCALENDAR
VERSION:2.0
PRODID:-//Fischereiverein Rapperswil-Jona - ECPv5.16.3.1//NONSGML v1.0//EN
CALSCALE:GREGORIAN
METHOD:PUBLISH
X-WR-CALNAME:Fischereiverein Rapperswil-Jona
X-ORIGINAL-URL:https://fvrj.ch
X-WR-CALDESC:Veranstaltungen für Fischereiverein Rapperswil-Jona
REFRESH-INTERVAL;VALUE=DURATION:PT1H
X-Robots-Tag:noindex
X-PUBLISHED-TTL:PT1H
BEGIN:VTIMEZONE
TZID:Europe/Berlin
BEGIN:DAYLIGHT
TZOFFSETFROM:+0100
TZOFFSETTO:+0200
TZNAME:CEST
DTSTART:20250330T010000
END:DAYLIGHT
BEGIN:STANDARD
TZOFFSETFROM:+0200
TZOFFSETTO:+0100
TZNAME:CET
DTSTART:20251026T010000
END:STANDARD
END:VTIMEZONE
BEGIN:VEVENT
DTSTART;VALUE=DATE:20250912
DTEND;VALUE=DATE:20250915
DTSTAMP:20260422T115604
CREATED:20250202T072505Z
LAST-MODIFIED:20250313T174659Z
UID:532-1757635200-1757894399@fvrj.ch
SUMMARY:Iffezheim\, Zeltlager (Jungfischer) 2025
DESCRIPTION:
URL:https://fvrj.ch/event/iffezheim-zeltlager-jungfischer/
CATEGORIES:alle Fischer
END:VEVENT
END:VCALENDAR