BEGIN:VCALENDAR
VERSION:2.0
PRODID:-//Fischereiverein Rapperswil-Jona - ECPv5.16.3.1//NONSGML v1.0//EN
CALSCALE:GREGORIAN
METHOD:PUBLISH
X-WR-CALNAME:Fischereiverein Rapperswil-Jona
X-ORIGINAL-URL:https://fvrj.ch
X-WR-CALDESC:Veranstaltungen für Fischereiverein Rapperswil-Jona
REFRESH-INTERVAL;VALUE=DURATION:PT1H
X-Robots-Tag:noindex
X-PUBLISHED-TTL:PT1H
BEGIN:VTIMEZONE
TZID:Europe/Berlin
BEGIN:DAYLIGHT
TZOFFSETFROM:+0100
TZOFFSETTO:+0200
TZNAME:CEST
DTSTART:20250330T010000
END:DAYLIGHT
BEGIN:STANDARD
TZOFFSETFROM:+0200
TZOFFSETTO:+0100
TZNAME:CET
DTSTART:20251026T010000
END:STANDARD
END:VTIMEZONE
BEGIN:VEVENT
DTSTART;VALUE=DATE:20250529
DTEND;VALUE=DATE:20250602
DTSTAMP:20260422T144642
CREATED:20250202T111523Z
LAST-MODIFIED:20250313T174228Z
UID:547-1748476800-1748822399@fvrj.ch
SUMMARY:Karpfenfischen Frankreich SFVM (Verein March) 2025 - Jungfischer
DESCRIPTION:
URL:https://fvrj.ch/event/karpfenfischen-frankrei-sfvm-verein-march-2025-jungfischer/
CATEGORIES:Jungfischer
END:VEVENT
BEGIN:VEVENT
DTSTART;VALUE=DATE:20250614
DTEND;VALUE=DATE:20250615
DTSTAMP:20260422T144642
CREATED:20250202T111649Z
LAST-MODIFIED:20250313T174319Z
UID:549-1749859200-1749945599@fvrj.ch
SUMMARY:Plauschfischen Wägital FVW (Verein Wägital) 2025 - Jungfischer
DESCRIPTION:
URL:https://fvrj.ch/event/plauschfischen-waegital-fvw-verein-waegital-2025-jungfischer/
CATEGORIES:Jungfischer
END:VEVENT
BEGIN:VEVENT
DTSTART;TZID=Europe/Berlin:20250614T110000
DTEND;TZID=Europe/Berlin:20250614T200000
DTSTAMP:20260422T144642
CREATED:20240111T151927Z
LAST-MODIFIED:20250615T113939Z
UID:292-1749898800-1749931200@fvrj.ch
SUMMARY:Familiengrillplausch in Goldingen 2025
DESCRIPTION:Liebe Fischer/In \n  \nDas diesjährige Familiengrillplausch findet am 14. Juni 2025 statt. \nBei Regen oder Unwetter wird das Familiengrillplausch auf ein späteres Datum verschoben. \nWir treffen uns in Hintermüli (Goldingen) bei Hefti Toni zum Grill und Angelplausch. \n  \nStartzeit                               Ab 11 Uhr \nOrt:                                       Hintermüli Goldingen \nLink:                                      https://maps.app.goo.gl/Y5vk5BjbstriXuxb8 \n  \nEingeladen sin alle Mitglieder mit Anhang und Kindern Grosseltern usw.\nGetränke und Grill sind organisiert. Fische die gefangen werden müssen selber bezahlt werden. Angelausrüstung nicht vergessen.\nWir nehmen noch etwas weniges an Material mit. \nÜber Salat und Kuchenspenden freuen wir uns. Bitte beim Anmelden angeben. \nAnmeldung bei Ralf Lendi\, (WhatsApp/ SMS 078 842 77 67) oder per Mail an: info@lendi-treuhand.ch bis 12.06.2025 \nWir führen den Anlass auch bei schlechtem Wetter durch\, ansonsten informieren wir bis am Freitag Abend 13.06.2025 nochmals. \nWir freuen uns auf Euch \nRalf Lendi und Vorstand \nPhilipp
URL:https://fvrj.ch/event/familiengrillplausch/
CATEGORIES:alle Fischer
END:VEVENT
END:VCALENDAR