BEGIN:VCALENDAR
VERSION:2.0
PRODID:-//Fischereiverein Rapperswil-Jona - ECPv5.16.3.1//NONSGML v1.0//EN
CALSCALE:GREGORIAN
METHOD:PUBLISH
X-WR-CALNAME:Fischereiverein Rapperswil-Jona
X-ORIGINAL-URL:https://fvrj.ch
X-WR-CALDESC:Veranstaltungen für Fischereiverein Rapperswil-Jona
REFRESH-INTERVAL;VALUE=DURATION:PT1H
X-Robots-Tag:noindex
X-PUBLISHED-TTL:PT1H
BEGIN:VTIMEZONE
TZID:Europe/Berlin
BEGIN:DAYLIGHT
TZOFFSETFROM:+0100
TZOFFSETTO:+0200
TZNAME:CEST
DTSTART:20250330T010000
END:DAYLIGHT
BEGIN:STANDARD
TZOFFSETFROM:+0200
TZOFFSETTO:+0100
TZNAME:CET
DTSTART:20251026T010000
END:STANDARD
END:VTIMEZONE
BEGIN:VEVENT
DTSTART;VALUE=DATE:20250816
DTEND;VALUE=DATE:20250817
DTSTAMP:20260422T115436
CREATED:20240111T151907Z
LAST-MODIFIED:20250802T090743Z
UID:290-1755302400-1755388799@fvrj.ch
SUMMARY:Vereinsfischen und Anlass des Präsidenten 2025
DESCRIPTION:Liebe Fischer/In \n  \nDas diesjährige Vereinsfischen findet am 16. August 2025 statt. \nBei Regen oder Unwetter wird das Vereinsfischen auf den 23. August 2025 erschoben. \nOb es eine Verschiebung gibt oder nicht\, erfahrt Ihr hier. \nStartzeit: Sonnenaufgang \nFische wägen: 15:00 Hafen Stampf\, Jona \n  \nAb 18:30 findet im Hafen Stampf ein Grill-Abend mit Rangverkündigung und Preisverteilung statt. \nBitte gebt uns bis am 10. August\, 12:00\, Bescheid (E-Mail an info@fvrj.ch)\, wer am Grill-Abend teilnimmt\, damit wir genügend Verköstigungen bereitstellen können. \nFalls jemand noch Salat oder Kuchen mitbringen möchte\, wären diese sehr willkommen. Einfach Bescheid geben an info@fvrj.ch . \n  \nFischergruss \n  \nEuer Präsi \nPhilipp
URL:https://fvrj.ch/event/vereinsfischen-und-anlass-des-praesidenten/
CATEGORIES:alle Fischer
END:VEVENT
BEGIN:VEVENT
DTSTART;VALUE=DATE:20250823
DTEND;VALUE=DATE:20250824
DTSTAMP:20260422T115436
CREATED:20240111T152023Z
LAST-MODIFIED:20250313T174533Z
UID:296-1755907200-1755993599@fvrj.ch
SUMMARY:Verschiebedatum Vereinsfischen 2025
DESCRIPTION:
URL:https://fvrj.ch/event/verschiebedatum-verseinfischen/
CATEGORIES:alle Fischer
END:VEVENT
BEGIN:VEVENT
DTSTART;VALUE=DATE:20250830
DTEND;VALUE=DATE:20250831
DTSTAMP:20260422T115436
CREATED:20250202T072350Z
LAST-MODIFIED:20250313T174600Z
UID:530-1756512000-1756598399@fvrj.ch
SUMMARY:Tag der Fische 2025
DESCRIPTION:
URL:https://fvrj.ch/event/tag-der-fische-2025/
CATEGORIES:alle Fischer
END:VEVENT
END:VCALENDAR